BEGIN:VCALENDAR
VERSION:2.0
PRODID:-//Home Suisse Home - ECPv6.15.20//NONSGML v1.0//EN
CALSCALE:GREGORIAN
METHOD:PUBLISH
X-WR-CALNAME:Home Suisse Home
X-ORIGINAL-URL:https://www.homesuissehome.ch
X-WR-CALDESC:Évènements pour Home Suisse Home
REFRESH-INTERVAL;VALUE=DURATION:PT1H
X-Robots-Tag:noindex
X-PUBLISHED-TTL:PT1H
BEGIN:VTIMEZONE
TZID:Europe/Paris
BEGIN:DAYLIGHT
TZOFFSETFROM:+0100
TZOFFSETTO:+0200
TZNAME:CEST
DTSTART:20240331T010000
END:DAYLIGHT
BEGIN:STANDARD
TZOFFSETFROM:+0200
TZOFFSETTO:+0100
TZNAME:CET
DTSTART:20241027T010000
END:STANDARD
BEGIN:DAYLIGHT
TZOFFSETFROM:+0100
TZOFFSETTO:+0200
TZNAME:CEST
DTSTART:20250330T010000
END:DAYLIGHT
BEGIN:STANDARD
TZOFFSETFROM:+0200
TZOFFSETTO:+0100
TZNAME:CET
DTSTART:20251026T010000
END:STANDARD
BEGIN:DAYLIGHT
TZOFFSETFROM:+0100
TZOFFSETTO:+0200
TZNAME:CEST
DTSTART:20260329T010000
END:DAYLIGHT
BEGIN:STANDARD
TZOFFSETFROM:+0200
TZOFFSETTO:+0100
TZNAME:CET
DTSTART:20261025T010000
END:STANDARD
BEGIN:DAYLIGHT
TZOFFSETFROM:+0100
TZOFFSETTO:+0200
TZNAME:CEST
DTSTART:20270328T010000
END:DAYLIGHT
BEGIN:STANDARD
TZOFFSETFROM:+0200
TZOFFSETTO:+0100
TZNAME:CET
DTSTART:20271031T010000
END:STANDARD
END:VTIMEZONE
BEGIN:VTIMEZONE
TZID:UTC
BEGIN:STANDARD
TZOFFSETFROM:+0000
TZOFFSETTO:+0000
TZNAME:UTC
DTSTART:20240101T000000
END:STANDARD
END:VTIMEZONE
BEGIN:VEVENT
DTSTART;TZID=Europe/Paris:20260325T000000
DTEND;TZID=Europe/Paris:20260325T235959
DTSTAMP:20260421T131937
CREATED:20251119T191815Z
LAST-MODIFIED:20251119T191816Z
UID:146-1774396800-1774483199@www.homesuissehome.ch
SUMMARY:Visite de la Maison Ronde à Bex
DESCRIPTION:
URL:https://www.homesuissehome.ch/event/visite-de-la-maison-ronde-a-bex/
END:VEVENT
BEGIN:VEVENT
DTSTART;TZID=Europe/Paris:20260217T183000
DTEND;TZID=Europe/Paris:20260217T203000
DTSTAMP:20260421T131937
CREATED:20251119T191713Z
LAST-MODIFIED:20260119T102225Z
UID:144-1771353000-1771360200@www.homesuissehome.ch
SUMMARY:Curling
DESCRIPTION:Rendez-vous à 18h45 à la patinoire de Leysin\, début de l’initiation a 19h. Vêtements de sport d’hiver recommandés.Cout de l’instructeur offert par HSH.  \n\n\n\nInscription validée une fois le paiement effectué \n\n\n\nPlaces limitées à 16 personnes
URL:https://www.homesuissehome.ch/event/curling/
LOCATION:Patinoire de Leysin\, Rte des Centres Sportifs 4\, Leysin\, Vaud\, 1854\, Switzerland
END:VEVENT
BEGIN:VEVENT
DTSTART;TZID=Europe/Paris:20260128T000000
DTEND;TZID=Europe/Paris:20260128T235959
DTSTAMP:20260421T131937
CREATED:20251119T191616Z
LAST-MODIFIED:20251119T191616Z
UID:142-1769558400-1769644799@www.homesuissehome.ch
SUMMARY:Visite de l'exposition de Bringhen
DESCRIPTION:Visite de l’exposition de Bringhen à Blonay pour les projets concernant les PMR (personnes à mobilité réduite)
URL:https://www.homesuissehome.ch/event/visite-de-lexposition-de-bringhen/
END:VEVENT
BEGIN:VEVENT
DTSTART;TZID=Europe/Paris:20251203T000000
DTEND;TZID=Europe/Paris:20251203T235959
DTSTAMP:20260421T131937
CREATED:20251119T191316Z
LAST-MODIFIED:20251119T192054Z
UID:138-1764720000-1764806399@www.homesuissehome.ch
SUMMARY:Marché de Noël à Montreux
DESCRIPTION:
URL:https://www.homesuissehome.ch/event/marche-de-noel-a-montreux/
LOCATION:Marché de Noël Montreux\, Quai de la Rouvenaz\, Montreux\, Vaud\, 1820\, Switzerland
END:VEVENT
BEGIN:VEVENT
DTSTART;TZID=UTC:20251112T170000
DTEND;TZID=UTC:20251112T213000
DTSTAMP:20260421T131937
CREATED:20251105T130623Z
LAST-MODIFIED:20251105T130623Z
UID:17-1762966800-1762983000@www.homesuissehome.ch
SUMMARY:Donnez votre avis sur le site
DESCRIPTION:
URL:https://www.homesuissehome.ch/event/donnez-votre-avis-sur-le-site/
LOCATION:Vida Loca Café\, Rte des Courtraits 30\, Bex\, Vaud\, 1880\, Switzerland
END:VEVENT
END:VCALENDAR