BEGIN:VCALENDAR
VERSION:2.0
PRODID:-//Home Suisse Home - ECPv6.15.20//NONSGML v1.0//EN
CALSCALE:GREGORIAN
METHOD:PUBLISH
X-WR-CALNAME:Home Suisse Home
X-ORIGINAL-URL:https://www.homesuissehome.ch
X-WR-CALDESC:Évènements pour Home Suisse Home
REFRESH-INTERVAL;VALUE=DURATION:PT1H
X-Robots-Tag:noindex
X-PUBLISHED-TTL:PT1H
BEGIN:VTIMEZONE
TZID:UTC
BEGIN:STANDARD
TZOFFSETFROM:+0000
TZOFFSETTO:+0000
TZNAME:UTC
DTSTART:20240101T000000
END:STANDARD
END:VTIMEZONE
BEGIN:VEVENT
DTSTART;TZID=UTC:20251112T170000
DTEND;TZID=UTC:20251112T213000
DTSTAMP:20260421T205323
CREATED:20251105T130623Z
LAST-MODIFIED:20251105T130623Z
UID:17-1762966800-1762983000@www.homesuissehome.ch
SUMMARY:Donnez votre avis sur le site
DESCRIPTION:
URL:https://www.homesuissehome.ch/event/donnez-votre-avis-sur-le-site/
LOCATION:Vida Loca Café\, Rte des Courtraits 30\, Bex\, Vaud\, 1880\, Switzerland
END:VEVENT
END:VCALENDAR